Package: rhdf5 Version: 2.46.1 Command: /Library/Frameworks/R.framework/Resources/bin/R CMD check --install=check:rhdf5.install-out.txt --library=/Library/Frameworks/R.framework/Resources/library --no-vignettes --timings rhdf5_2.46.1.tar.gz StartedAt: 2024-04-18 01:10:20 -0400 (Thu, 18 Apr 2024) EndedAt: 2024-04-18 01:11:19 -0400 (Thu, 18 Apr 2024) EllapsedTime: 58.8 seconds RetCode: 0 Status: WARNINGS CheckDir: rhdf5.Rcheck Warnings: 2