Package: ribor Version: 1.14.0 Command: rm -rf ribor.buildbin-libdir && mkdir ribor.buildbin-libdir && /Users/biocbuild/BBS/utils/build-universal.sh ribor_1.14.0.tar.gz /Library/Frameworks/R.framework/Resources/bin/R ribor.buildbin-libdir StartedAt: 2024-04-18 10:55:13 -0400 (Thu, 18 Apr 2024) EndedAt: 2024-04-18 10:55:27 -0400 (Thu, 18 Apr 2024) EllapsedTime: 13.6 seconds RetCode: 0 Status: OK PackageFile: ribor_1.14.0.tgz PackageFileSize: 4.828 MiB