Package: rifiComparative Version: 1.2.0 Command: rm -rf rifiComparative.buildbin-libdir && mkdir rifiComparative.buildbin-libdir && /Users/biocbuild/BBS/utils/build-universal.sh rifiComparative_1.2.0.tar.gz /Library/Frameworks/R.framework/Resources/bin/R rifiComparative.buildbin-libdir StartedAt: 2024-04-18 10:55:56 -0400 (Thu, 18 Apr 2024) EndedAt: 2024-04-18 10:56:48 -0400 (Thu, 18 Apr 2024) EllapsedTime: 51.9 seconds RetCode: 0 Status: OK PackageFile: rifiComparative_1.2.0.tgz PackageFileSize: 2.431 <A href="http://en.wikipedia.org/wiki/MiB" target="_blank">MiB</A>