Package: rifiComparative
Version: 1.2.0
Command: /Library/Frameworks/R.framework/Resources/bin/R CMD build --keep-empty-dirs --no-resave-data rifiComparative
StartedAt: 2024-04-17 01:03:32 -0400 (Wed, 17 Apr 2024)
EndedAt: 2024-04-17 01:09:54 -0400 (Wed, 17 Apr 2024)
EllapsedTime: 381.8 seconds
RetCode: 0
Status: OK
PackageFile: rifiComparative_1.2.0.tar.gz
PackageFileSize: 3.149 <A href="http://en.wikipedia.org/wiki/MiB" target="_blank">MiB</A>