Package: rmspc Version: 1.8.0 Command: rm -rf rmspc.buildbin-libdir && mkdir rmspc.buildbin-libdir && /Users/biocbuild/BBS/utils/build-universal.sh rmspc_1.8.0.tar.gz /Library/Frameworks/R.framework/Resources/bin/R rmspc.buildbin-libdir StartedAt: 2024-04-18 10:57:24 -0400 (Thu, 18 Apr 2024) EndedAt: 2024-04-18 10:58:11 -0400 (Thu, 18 Apr 2024) EllapsedTime: 46.6 seconds RetCode: 0 Status: OK PackageFile: rmspc_1.8.0.tgz PackageFileSize: 2.14 MiB