Package: rpx Version: 2.10.0 Command: /Library/Frameworks/R.framework/Resources/bin/R CMD INSTALL rpx StartedAt: 2024-04-16 10:37:11 -0400 (Tue, 16 Apr 2024) EndedAt: 2024-04-16 10:37:19 -0400 (Tue, 16 Apr 2024) EllapsedTime: 7.9 seconds RetCode: 0 Status: OK