Package: sampleClassifier Version: 1.26.0 Command: /Library/Frameworks/R.framework/Resources/bin/R CMD build --keep-empty-dirs --no-resave-data sampleClassifier StartedAt: 2024-04-17 01:36:05 -0400 (Wed, 17 Apr 2024) EndedAt: 2024-04-17 01:39:00 -0400 (Wed, 17 Apr 2024) EllapsedTime: 174.9 seconds RetCode: 0 Status: OK PackageFile: sampleClassifier_1.26.0.tar.gz PackageFileSize: 238.6 KiB