Package: sampleClassifier Version: 1.26.0 Command: /Library/Frameworks/R.framework/Resources/bin/R CMD check --install=check:sampleClassifier.install-out.txt --library=/Library/Frameworks/R.framework/Resources/library --no-vignettes --timings sampleClassifier_1.26.0.tar.gz StartedAt: 2024-04-18 02:24:10 -0400 (Thu, 18 Apr 2024) EndedAt: 2024-04-18 02:29:02 -0400 (Thu, 18 Apr 2024) EllapsedTime: 291.3 seconds RetCode: 0 Status: OK CheckDir: sampleClassifier.Rcheck Warnings: 0