Package: sampleClassifier Version: 1.26.0 Command: /Library/Frameworks/R.framework/Resources/bin/R CMD INSTALL sampleClassifier StartedAt: 2024-04-16 11:05:35 -0400 (Tue, 16 Apr 2024) EndedAt: 2024-04-16 11:05:56 -0400 (Tue, 16 Apr 2024) EllapsedTime: 20.8 seconds RetCode: 0 Status: OK