Package: sangeranalyseR Version: 1.12.0 Command: rm -rf sangeranalyseR.buildbin-libdir && mkdir sangeranalyseR.buildbin-libdir && /Users/biocbuild/BBS/utils/build-universal.sh sangeranalyseR_1.12.0.tar.gz /Library/Frameworks/R.framework/Resources/bin/R sangeranalyseR.buildbin-libdir StartedAt: 2024-04-18 11:05:29 -0400 (Thu, 18 Apr 2024) EndedAt: 2024-04-18 11:06:15 -0400 (Thu, 18 Apr 2024) EllapsedTime: 45.8 seconds RetCode: 0 Status: OK PackageFile: sangeranalyseR_1.12.0.tgz PackageFileSize: 5.792 MiB