Package: sangeranalyseR Version: 1.12.0 Command: /Library/Frameworks/R.framework/Resources/bin/R CMD check --install=check:sangeranalyseR.install-out.txt --library=/Library/Frameworks/R.framework/Resources/library --no-vignettes --timings sangeranalyseR_1.12.0.tar.gz StartedAt: 2024-04-18 02:24:48 -0400 (Thu, 18 Apr 2024) EndedAt: 2024-04-18 02:30:54 -0400 (Thu, 18 Apr 2024) EllapsedTime: 366.3 seconds RetCode: 0 Status: WARNINGS CheckDir: sangeranalyseR.Rcheck Warnings: 7