Package: sangeranalyseR Version: 1.12.0 Command: /Library/Frameworks/R.framework/Resources/bin/R CMD INSTALL sangeranalyseR StartedAt: 2024-04-16 12:43:03 -0400 (Tue, 16 Apr 2024) EndedAt: 2024-04-16 12:43:38 -0400 (Tue, 16 Apr 2024) EllapsedTime: 34.5 seconds RetCode: 0 Status: OK