Package: scAnnotatR Version: 1.8.0 Command: /Library/Frameworks/R.framework/Resources/bin/R CMD INSTALL scAnnotatR StartedAt: 2024-04-16 13:03:58 -0400 (Tue, 16 Apr 2024) EndedAt: 2024-04-16 13:04:57 -0400 (Tue, 16 Apr 2024) EllapsedTime: 59.0 seconds RetCode: 0 Status: OK