Package: scDblFinder Version: 1.16.0 Command: rm -rf scDblFinder.buildbin-libdir && mkdir scDblFinder.buildbin-libdir && /Users/biocbuild/BBS/utils/build-universal.sh scDblFinder_1.16.0.tar.gz /Library/Frameworks/R.framework/Resources/bin/R scDblFinder.buildbin-libdir StartedAt: 2024-03-07 10:25:45 -0500 (Thu, 07 Mar 2024) EndedAt: 2024-03-07 10:26:49 -0500 (Thu, 07 Mar 2024) EllapsedTime: 63.9 seconds RetCode: 0 Status: OK PackageFile: scDblFinder_1.16.0.tgz PackageFileSize: 2.34 MiB