Package: scDblFinder Version: 1.16.0 Command: /Library/Frameworks/R.framework/Resources/bin/R CMD build --keep-empty-dirs --no-resave-data scDblFinder StartedAt: 2024-04-17 01:54:50 -0400 (Wed, 17 Apr 2024) EndedAt: 2024-04-17 01:56:52 -0400 (Wed, 17 Apr 2024) EllapsedTime: 121.8 seconds RetCode: 1 Status: ERROR PackageFile: None PackageFileSize: NA