Package: scDblFinder Version: 1.16.0 Command: /Library/Frameworks/R.framework/Resources/bin/R CMD check --install=check:scDblFinder.install-out.txt --library=/Library/Frameworks/R.framework/Resources/library --no-vignettes --timings scDblFinder_1.16.0.tar.gz StartedAt: 2024-03-07 02:19:44 -0500 (Thu, 07 Mar 2024) EndedAt: 2024-03-07 02:27:45 -0500 (Thu, 07 Mar 2024) EllapsedTime: 481.8 seconds RetCode: 0 Status: OK CheckDir: scDblFinder.Rcheck Warnings: 0