Package: scRepertoire Version: 1.12.0 Command: /Library/Frameworks/R.framework/Resources/bin/R CMD build --keep-empty-dirs --no-resave-data scRepertoire StartedAt: 2024-04-17 02:19:57 -0400 (Wed, 17 Apr 2024) EndedAt: 2024-04-17 02:22:26 -0400 (Wed, 17 Apr 2024) EllapsedTime: 148.5 seconds RetCode: 0 Status: OK PackageFile: scRepertoire_1.12.0.tar.gz PackageFileSize: 7.382 MiB