Package: scanMiR Version: 1.8.2 Command: /Library/Frameworks/R.framework/Resources/bin/R CMD INSTALL scanMiR StartedAt: 2024-04-16 10:49:26 -0400 (Tue, 16 Apr 2024) EndedAt: 2024-04-16 10:49:46 -0400 (Tue, 16 Apr 2024) EllapsedTime: 19.9 seconds RetCode: 0 Status: OK