Package: seq2pathway Version: 1.34.0 Command: /Library/Frameworks/R.framework/Resources/bin/R CMD check --install=check:seq2pathway.install-out.txt --library=/Library/Frameworks/R.framework/Resources/library --no-vignettes --timings seq2pathway_1.34.0.tar.gz StartedAt: 2024-04-18 03:30:20 -0400 (Thu, 18 Apr 2024) EndedAt: 2024-04-18 03:35:37 -0400 (Thu, 18 Apr 2024) EllapsedTime: 316.9 seconds RetCode: 0 Status: WARNINGS CheckDir: seq2pathway.Rcheck Warnings: 2