Package: sevenC Version: 1.22.0 Maintainer: Jonas Ibn-Salem MaintainerEmail: jonas.ibn-salem at tron-mainz.de git_url: https://git.bioconductor.org/packages/sevenC git_branch: RELEASE_3_18 git_last_commit: 3b7cf4e git_last_commit_date: 2023-10-24 11:05:00 -0400 (Tue, 24 Oct 2023)