Package: sevenC Version: 1.22.0 Command: rm -rf sevenC.buildbin-libdir && mkdir sevenC.buildbin-libdir && /Users/biocbuild/BBS/utils/build-universal.sh sevenC_1.22.0.tar.gz /Library/Frameworks/R.framework/Resources/bin/R sevenC.buildbin-libdir StartedAt: 2024-04-18 11:16:45 -0400 (Thu, 18 Apr 2024) EndedAt: 2024-04-18 11:17:21 -0400 (Thu, 18 Apr 2024) EllapsedTime: 36.5 seconds RetCode: 0 Status: OK PackageFile: sevenC_1.22.0.tgz PackageFileSize: 2.041 MiB