Package: sevenC Version: 1.22.0 Command: /Library/Frameworks/R.framework/Resources/bin/R CMD INSTALL sevenC StartedAt: 2024-04-16 10:47:08 -0400 (Tue, 16 Apr 2024) EndedAt: 2024-04-16 10:47:38 -0400 (Tue, 16 Apr 2024) EllapsedTime: 30.0 seconds RetCode: 0 Status: OK