Package: sevenbridges Version: 1.32.0 Maintainer: Phil Webster MaintainerEmail: phil.webster at velsera.com git_url: https://git.bioconductor.org/packages/sevenbridges git_branch: RELEASE_3_18 git_last_commit: bd309cc git_last_commit_date: 2023-10-24 10:45:02 -0400 (Tue, 24 Oct 2023)