Package: shinyMethyl Version: 1.38.0 Command: /Library/Frameworks/R.framework/Resources/bin/R CMD check --install=check:shinyMethyl.install-out.txt --library=/Library/Frameworks/R.framework/Resources/library --no-vignettes --timings shinyMethyl_1.38.0.tar.gz StartedAt: 2024-04-18 03:48:00 -0400 (Thu, 18 Apr 2024) EndedAt: 2024-04-18 03:55:40 -0400 (Thu, 18 Apr 2024) EllapsedTime: 459.9 seconds RetCode: 0 Status: OK CheckDir: shinyMethyl.Rcheck Warnings: 0