Package: sigFeature Version: 1.20.0 Command: /Library/Frameworks/R.framework/Resources/bin/R CMD build --keep-empty-dirs --no-resave-data sigFeature StartedAt: 2024-04-17 02:43:59 -0400 (Wed, 17 Apr 2024) EndedAt: 2024-04-17 02:44:46 -0400 (Wed, 17 Apr 2024) EllapsedTime: 46.8 seconds RetCode: 0 Status: OK PackageFile: sigFeature_1.20.0.tar.gz PackageFileSize: 369.9 KiB