Package: sigFeature Version: 1.20.0 Command: /Library/Frameworks/R.framework/Resources/bin/R CMD check --install=check:sigFeature.install-out.txt --library=/Library/Frameworks/R.framework/Resources/library --no-vignettes --timings sigFeature_1.20.0.tar.gz StartedAt: 2024-04-18 03:55:12 -0400 (Thu, 18 Apr 2024) EndedAt: 2024-04-18 03:59:19 -0400 (Thu, 18 Apr 2024) EllapsedTime: 246.8 seconds RetCode: 0 Status: OK CheckDir: sigFeature.Rcheck Warnings: 0