Package: singscore Version: 1.22.0 Command: /Library/Frameworks/R.framework/Resources/bin/R CMD check --install=check:singscore.install-out.txt --library=/Library/Frameworks/R.framework/Resources/library --no-vignettes --timings singscore_1.22.0.tar.gz StartedAt: 2024-04-18 04:16:27 -0400 (Thu, 18 Apr 2024) EndedAt: 2024-04-18 04:21:42 -0400 (Thu, 18 Apr 2024) EllapsedTime: 315.3 seconds RetCode: 0 Status: OK CheckDir: singscore.Rcheck Warnings: 0