Package: slalom Version: 1.24.0 Command: /Library/Frameworks/R.framework/Resources/bin/R CMD build --keep-empty-dirs --no-resave-data slalom StartedAt: 2024-04-17 03:00:00 -0400 (Wed, 17 Apr 2024) EndedAt: 2024-04-17 03:00:12 -0400 (Wed, 17 Apr 2024) EllapsedTime: 12.4 seconds RetCode: 1 Status: ERROR PackageFile: None PackageFileSize: NA