Package: snapCGH Version: 1.72.0 Command: /Library/Frameworks/R.framework/Resources/bin/R CMD build --keep-empty-dirs --no-resave-data snapCGH StartedAt: 2024-04-17 03:01:51 -0400 (Wed, 17 Apr 2024) EndedAt: 2024-04-17 03:02:43 -0400 (Wed, 17 Apr 2024) EllapsedTime: 52.0 seconds RetCode: 0 Status: OK PackageFile: snapCGH_1.72.0.tar.gz PackageFileSize: 1.104 MiB