Package: splineTimeR Version: 1.30.0 Command: rm -rf splineTimeR.buildbin-libdir && mkdir splineTimeR.buildbin-libdir && /Users/biocbuild/BBS/utils/build-universal.sh splineTimeR_1.30.0.tar.gz /Library/Frameworks/R.framework/Resources/bin/R splineTimeR.buildbin-libdir StartedAt: 2024-04-18 11:26:00 -0400 (Thu, 18 Apr 2024) EndedAt: 2024-04-18 11:26:27 -0400 (Thu, 18 Apr 2024) EllapsedTime: 26.5 seconds RetCode: 0 Status: OK PackageFile: splineTimeR_1.30.0.tgz PackageFileSize: 1.268 MiB