Package: splineTimeR Version: 1.30.0 Command: /Library/Frameworks/R.framework/Resources/bin/R CMD build --keep-empty-dirs --no-resave-data splineTimeR StartedAt: 2024-04-17 03:25:21 -0400 (Wed, 17 Apr 2024) EndedAt: 2024-04-17 03:26:19 -0400 (Wed, 17 Apr 2024) EllapsedTime: 58.3 seconds RetCode: 0 Status: OK PackageFile: splineTimeR_1.30.0.tar.gz PackageFileSize: 1.227 MiB