Package: srnadiff Version: 1.22.2 Command: /Library/Frameworks/R.framework/Resources/bin/R CMD build --keep-empty-dirs --no-resave-data srnadiff StartedAt: 2024-04-17 03:32:07 -0400 (Wed, 17 Apr 2024) EndedAt: 2024-04-17 03:35:00 -0400 (Wed, 17 Apr 2024) EllapsedTime: 173.7 seconds RetCode: 0 Status: OK PackageFile: srnadiff_1.22.2.tar.gz PackageFileSize: 2.302 MiB