Package: svaNUMT Version: 1.8.0 Command: /Library/Frameworks/R.framework/Resources/bin/R CMD check --install=check:svaNUMT.install-out.txt --library=/Library/Frameworks/R.framework/Resources/library --no-vignettes --timings svaNUMT_1.8.0.tar.gz StartedAt: 2024-04-18 05:46:19 -0400 (Thu, 18 Apr 2024) EndedAt: 2024-04-18 05:52:52 -0400 (Thu, 18 Apr 2024) EllapsedTime: 393.4 seconds RetCode: 0 Status: OK CheckDir: svaNUMT.Rcheck Warnings: 0