Package: switchde Version: 1.28.0 Command: /Library/Frameworks/R.framework/Resources/bin/R CMD build --keep-empty-dirs --no-resave-data switchde StartedAt: 2024-04-17 03:48:57 -0400 (Wed, 17 Apr 2024) EndedAt: 2024-04-17 03:49:51 -0400 (Wed, 17 Apr 2024) EllapsedTime: 53.8 seconds RetCode: 0 Status: OK PackageFile: switchde_1.28.0.tar.gz PackageFileSize: 1.032 MiB