Package: syntenet
Version: 1.4.2
Command: /Library/Frameworks/R.framework/Resources/bin/R CMD INSTALL syntenet
StartedAt: 2024-04-16 11:46:05 -0400 (Tue, 16 Apr 2024)
EndedAt: 2024-04-16 11:47:14 -0400 (Tue, 16 Apr 2024)
EllapsedTime: 68.8 seconds
RetCode: 0
Status: OK