Package: systemPipeR Version: 2.8.0 Command: /Library/Frameworks/R.framework/Resources/bin/R CMD build --keep-empty-dirs --no-resave-data systemPipeR StartedAt: 2024-04-17 03:51:18 -0400 (Wed, 17 Apr 2024) EndedAt: 2024-04-17 03:53:14 -0400 (Wed, 17 Apr 2024) EllapsedTime: 115.8 seconds RetCode: 0 Status: OK PackageFile: systemPipeR_2.8.0.tar.gz PackageFileSize: 7.096 MiB