Package: systemPipeR Version: 2.8.0 Command: /Library/Frameworks/R.framework/Resources/bin/R CMD check --install=check:systemPipeR.install-out.txt --library=/Library/Frameworks/R.framework/Resources/library --no-vignettes --timings systemPipeR_2.8.0.tar.gz StartedAt: 2024-04-18 05:54:38 -0400 (Thu, 18 Apr 2024) EndedAt: 2024-04-18 06:01:40 -0400 (Thu, 18 Apr 2024) EllapsedTime: 422.1 seconds RetCode: 0 Status: OK CheckDir: systemPipeR.Rcheck Warnings: 0