Package: ternarynet Version: 1.46.0 Command: rm -rf ternarynet.buildbin-libdir && mkdir ternarynet.buildbin-libdir && /Users/biocbuild/BBS/utils/build-universal.sh ternarynet_1.46.0.tar.gz /Library/Frameworks/R.framework/Resources/bin/R ternarynet.buildbin-libdir StartedAt: 2024-04-15 10:45:56 -0400 (Mon, 15 Apr 2024) EndedAt: 2024-04-15 10:46:12 -0400 (Mon, 15 Apr 2024) EllapsedTime: 15.8 seconds RetCode: 0 Status: OK PackageFile: ternarynet_1.46.0.tgz PackageFileSize: 561.5 KiB