Package: tilingArray Version: 1.80.0 Command: /Library/Frameworks/R.framework/Resources/bin/R CMD INSTALL tilingArray StartedAt: 2024-04-16 11:55:20 -0400 (Tue, 16 Apr 2024) EndedAt: 2024-04-16 11:55:49 -0400 (Tue, 16 Apr 2024) EllapsedTime: 28.9 seconds RetCode: 0 Status: OK