Package: transite Version: 1.20.1 Command: /Library/Frameworks/R.framework/Resources/bin/R CMD build --keep-empty-dirs --no-resave-data transite StartedAt: 2024-04-17 04:14:13 -0400 (Wed, 17 Apr 2024) EndedAt: 2024-04-17 04:14:57 -0400 (Wed, 17 Apr 2024) EllapsedTime: 43.6 seconds RetCode: 0 Status: OK PackageFile: transite_1.20.1.tar.gz PackageFileSize: 637.8 KiB