Package: trena Version: 1.24.0 Maintainer: Paul Shannon MaintainerEmail: paul.thurmond.shannon at gmail.com git_url: https://git.bioconductor.org/packages/trena git_branch: RELEASE_3_18 git_last_commit: 32af010 git_last_commit_date: 2023-10-24 10:57:26 -0400 (Tue, 24 Oct 2023)