Package: trena Version: 1.24.0 Command: /Library/Frameworks/R.framework/Resources/bin/R CMD check --install=check:trena.install-out.txt --library=/Library/Frameworks/R.framework/Resources/library --no-vignettes --timings trena_1.24.0.tar.gz StartedAt: 2024-04-18 06:48:39 -0400 (Thu, 18 Apr 2024) EndedAt: 2024-04-18 07:01:29 -0400 (Thu, 18 Apr 2024) EllapsedTime: 770.1 seconds RetCode: 0 Status: WARNINGS CheckDir: trena.Rcheck Warnings: 3