Package: trigger Version: 1.48.0 Maintainer: John D. Storey MaintainerEmail: jstorey at princeton.edu git_url: https://git.bioconductor.org/packages/trigger git_branch: RELEASE_3_18 git_last_commit: 2656177 git_last_commit_date: 2023-10-24 09:48:53 -0400 (Tue, 24 Oct 2023)