Package: tweeDEseq Version: 1.48.0 Command: rm -rf tweeDEseq.buildbin-libdir && mkdir tweeDEseq.buildbin-libdir && /Users/biocbuild/BBS/utils/build-universal.sh tweeDEseq_1.48.0.tar.gz /Library/Frameworks/R.framework/Resources/bin/R tweeDEseq.buildbin-libdir StartedAt: 2024-04-15 10:52:04 -0400 (Mon, 15 Apr 2024) EndedAt: 2024-04-15 10:52:14 -0400 (Mon, 15 Apr 2024) EllapsedTime: 10.3 seconds RetCode: 0 Status: OK PackageFile: tweeDEseq_1.48.0.tgz PackageFileSize: 349.3 KiB