Package: tweeDEseq Version: 1.48.0 Command: /Library/Frameworks/R.framework/Resources/bin/R CMD build --keep-empty-dirs --no-resave-data tweeDEseq StartedAt: 2024-04-17 04:25:55 -0400 (Wed, 17 Apr 2024) EndedAt: 2024-04-17 04:49:25 -0400 (Wed, 17 Apr 2024) EllapsedTime: 1409.3 seconds RetCode: 0 Status: OK PackageFile: tweeDEseq_1.48.0.tar.gz PackageFileSize: 233.6 KiB