Package: tweeDEseq Version: 1.48.0 Command: /Library/Frameworks/R.framework/Resources/bin/R CMD INSTALL tweeDEseq StartedAt: 2024-04-16 12:18:13 -0400 (Tue, 16 Apr 2024) EndedAt: 2024-04-16 12:18:19 -0400 (Tue, 16 Apr 2024) EllapsedTime: 6.4 seconds RetCode: 0 Status: OK