Package: twoddpcr Version: 1.26.0 Command: /Library/Frameworks/R.framework/Resources/bin/R CMD build --keep-empty-dirs --no-resave-data twoddpcr StartedAt: 2024-04-17 04:26:36 -0400 (Wed, 17 Apr 2024) EndedAt: 2024-04-17 04:29:17 -0400 (Wed, 17 Apr 2024) EllapsedTime: 161.6 seconds RetCode: 0 Status: OK PackageFile: twoddpcr_1.26.0.tar.gz PackageFileSize: 4.243 MiB