Package: tximeta Version: 1.20.3 Command: rm -rf tximeta.buildbin-libdir && mkdir tximeta.buildbin-libdir && /Users/biocbuild/BBS/utils/build-universal.sh tximeta_1.20.3.tar.gz /Library/Frameworks/R.framework/Resources/bin/R tximeta.buildbin-libdir StartedAt: 2024-04-15 10:52:18 -0400 (Mon, 15 Apr 2024) EndedAt: 2024-04-15 10:53:21 -0400 (Mon, 15 Apr 2024) EllapsedTime: 63.4 seconds RetCode: 0 Status: OK PackageFile: tximeta_1.20.3.tgz PackageFileSize: 1.285 MiB