Package: variancePartition Version: 1.32.5 Command: rm -rf variancePartition.buildbin-libdir && mkdir variancePartition.buildbin-libdir && /Users/biocbuild/BBS/utils/build-universal.sh variancePartition_1.32.5.tar.gz /Library/Frameworks/R.framework/Resources/bin/R variancePartition.buildbin-libdir StartedAt: 2024-04-15 10:53:46 -0400 (Mon, 15 Apr 2024) EndedAt: 2024-04-15 10:54:12 -0400 (Mon, 15 Apr 2024) EllapsedTime: 26.2 seconds RetCode: 0 Status: OK PackageFile: variancePartition_1.32.5.tgz PackageFileSize: 5.094 MiB