Package: variancePartition Version: 1.32.5 Command: /Library/Frameworks/R.framework/Resources/bin/R CMD check --install=check:variancePartition.install-out.txt --library=/Library/Frameworks/R.framework/Resources/library --no-vignettes --timings variancePartition_1.32.5.tar.gz StartedAt: 2024-04-18 07:16:21 -0400 (Thu, 18 Apr 2024) EndedAt: 2024-04-18 07:25:01 -0400 (Thu, 18 Apr 2024) EllapsedTime: 520.5 seconds RetCode: 0 Status: OK CheckDir: variancePartition.Rcheck Warnings: 0